BEGIN:VCALENDAR
VERSION:2.0
PRODID:-//ChurchDev//Events//EN
CALSCALE:GREGORIAN
METHOD:PUBLISH
BEGIN:VEVENT
UID:4527-20260403@www.manghambaptist.org
SUMMARY:Egg hunt
DTSTART;VALUE=DATE:20260403
DTEND;VALUE=DATE:20260404
DESCRIPTION:https://www.manghambaptist.org/events/egg-hunt/
LOCATION:112 Church St. Mangham\, LA 71259
URL:https://www.manghambaptist.org/events/egg-hunt/
DTSTAMP:20260419T200114Z
END:VEVENT
END:VCALENDAR
