BEGIN:VCALENDAR
VERSION:2.0
PRODID:-//ChurchDev//Events//EN
CALSCALE:GREGORIAN
METHOD:PUBLISH
BEGIN:VEVENT
UID:4526-20260412@www.manghambaptist.org
SUMMARY:Family Altar
DTSTART;VALUE=DATE:20260412
DTEND;VALUE=DATE:20260413
DESCRIPTION:https://www.manghambaptist.org/events/family-altar-8/
LOCATION:112 Church St. Mangham\, LA 71259
URL:https://www.manghambaptist.org/events/family-altar-8/
DTSTAMP:20260419T200020Z
END:VEVENT
END:VCALENDAR
