BEGIN:VCALENDAR
VERSION:2.0
PRODID:-//ChurchDev//Events//EN
CALSCALE:GREGORIAN
METHOD:PUBLISH
BEGIN:VEVENT
UID:4525-20260406@www.manghambaptist.org
SUMMARY:Ladies&#8217\; Game Night
DTSTART;VALUE=DATE:20260406
DTEND;VALUE=DATE:20260407
DESCRIPTION:https://www.manghambaptist.org/events/ladies-game-night-16/
LOCATION:112 Church St. Mangham\, LA 71259
URL:https://www.manghambaptist.org/events/ladies-game-night-16/
DTSTAMP:20260419T200115Z
END:VEVENT
END:VCALENDAR
