BEGIN:VCALENDAR
VERSION:2.0
PRODID:-//ChurchDev//Events//EN
CALSCALE:GREGORIAN
METHOD:PUBLISH
BEGIN:VEVENT
UID:4524-20260426@www.manghambaptist.org
SUMMARY:Connected Groups
DTSTART;VALUE=DATE:20260426
DTEND;VALUE=DATE:20260427
DESCRIPTION:https://www.manghambaptist.org/events/connected-groups-12/
LOCATION:112 Church St. Mangham\, LA 71259
URL:https://www.manghambaptist.org/events/connected-groups-12/
DTSTAMP:20260419T195946Z
END:VEVENT
END:VCALENDAR
