BEGIN:VCALENDAR
VERSION:2.0
PRODID:-//ChurchDev//Events//EN
CALSCALE:GREGORIAN
METHOD:PUBLISH
BEGIN:VEVENT
UID:4523-20260419@www.manghambaptist.org
SUMMARY:Supper &#038\; Sermon
DTSTART;VALUE=DATE:20260419
DTEND;VALUE=DATE:20260420
DESCRIPTION:https://www.manghambaptist.org/events/supper-sermon-6/
LOCATION:112 Church St. Mangham\, LA 71259
URL:https://www.manghambaptist.org/events/supper-sermon-6/
DTSTAMP:20260419T200116Z
END:VEVENT
END:VCALENDAR
